BEGIN:VCALENDAR
VERSION:2.0
PRODID:-//Hoults - ECPv6.15.20//NONSGML v1.0//EN
CALSCALE:GREGORIAN
METHOD:PUBLISH
X-WR-CALNAME:Hoults
X-ORIGINAL-URL:https://hoults.com
X-WR-CALDESC:Events for Hoults
REFRESH-INTERVAL;VALUE=DURATION:PT1H
X-Robots-Tag:noindex
X-PUBLISHED-TTL:PT1H
BEGIN:VTIMEZONE
TZID:Europe/London
BEGIN:DAYLIGHT
TZOFFSETFROM:+0000
TZOFFSETTO:+0100
TZNAME:BST
DTSTART:20250330T010000
END:DAYLIGHT
BEGIN:STANDARD
TZOFFSETFROM:+0100
TZOFFSETTO:+0000
TZNAME:GMT
DTSTART:20251026T010000
END:STANDARD
BEGIN:DAYLIGHT
TZOFFSETFROM:+0000
TZOFFSETTO:+0100
TZNAME:BST
DTSTART:20260329T010000
END:DAYLIGHT
BEGIN:STANDARD
TZOFFSETFROM:+0100
TZOFFSETTO:+0000
TZNAME:GMT
DTSTART:20261025T010000
END:STANDARD
BEGIN:DAYLIGHT
TZOFFSETFROM:+0000
TZOFFSETTO:+0100
TZNAME:BST
DTSTART:20270328T010000
END:DAYLIGHT
BEGIN:STANDARD
TZOFFSETFROM:+0100
TZOFFSETTO:+0000
TZNAME:GMT
DTSTART:20271031T010000
END:STANDARD
END:VTIMEZONE
BEGIN:VEVENT
DTSTART;TZID=Europe/London:20260528T183000
DTEND;TZID=Europe/London:20260528T210000
DTSTAMP:20260424T225015
CREATED:20260417T141403Z
LAST-MODIFIED:20260417T141403Z
UID:10630-1779993000-1780002000@hoults.com
SUMMARY:Flint Winery\, Norfolk - tasting with Dan Kirby - 28th May 2026
DESCRIPTION:Flint Vineyard began with co-founder and Head Winemaker Ben Witchell’s passion for great wine. After leaving a career in IT\, Ben earned a top Oenology degree and honed his skills in Beaujolais\, blending precision with creativity. Back in the UK\, he partnered with landowner Adrian Hipwell to establish Flint in South Norfolk\, one of the country’s sunniest\, driest regions. \nWith over 35\,000 vines and a cutting-edge winery\, Flint has become known for bold\, expressive wines—and they’re not standing still. This year they planted an additional 25 acres\, doubling last year’s holdings\, with plans to double again. They’re also at the forefront of innovation\, especially in their use of Piwi grape varieties like Solaris\, Bacchus\, Seyval Blanc\, and Sauvignon Blanc. These varieties are naturally resistant to fungal diseases\, allowing for a significant reduction in pesticide use.  \nDan Kirby is Brand Ambassador for Flint as well as Head of Sales & Marketing. Dan is also currently studying to be a Master of Wine\, with over 15 years of experience this will be an evening showcasing just how exciting English wines have become.
URL:https://hoults.com/event/flint-winery-norfolk-tasting-with-dan-kirby-28th-may-2026/
LOCATION:Hoults Wine Merchants\, 6 Viaduct Street\, Huddersfield\, HD1 5DL\, United Kingdom
CATEGORIES:Wine Tasting
ATTACH;FMTTYPE=image/jpeg:https://hoults.com/wp-content/uploads/2026/04/Image-1.jpeg
END:VEVENT
BEGIN:VEVENT
DTSTART;TZID=Europe/London:20260603T183000
DTEND;TZID=Europe/London:20260603T210000
DTSTAMP:20260424T225015
CREATED:20260331T121552Z
LAST-MODIFIED:20260331T121552Z
UID:10585-1780511400-1780520400@hoults.com
SUMMARY:Salzl - Austrian Wine Tasting with Günter Engelbert - 3rd June 2026
DESCRIPTION:We are absolutely overjoyed to be joined by the lovely Günter Engelbert (I love that name!) from Salzl wines in Austria for what promises to be one of the tasting highlights of the year. Austria has such a rich heritage of winemaking and yet goes a little under the radar these days but it is producers\, like the excellent Salzl\, that are putting it back on the map. We’ve been selling for the Salzl wines for a few years now and they are nothing short of brilliant and so it’s a real treat to have them showcase to you exactly what it is that we are so excited about. A delicious mixture of white and red wines and a thoroughly modern look at Austrian wine.
URL:https://hoults.com/event/salzl-austrian-wine-tasting-with-gunter-engelbert-3rd-june-2026/
LOCATION:Hoults Wine Merchants\, 6 Viaduct Street\, Huddersfield\, HD1 5DL\, United Kingdom
CATEGORIES:Wine Tasting
ATTACH;FMTTYPE=image/jpeg:https://hoults.com/wp-content/uploads/2026/03/IMG_5861.jpeg
END:VEVENT
BEGIN:VEVENT
DTSTART;TZID=Europe/London:20260612T183000
DTEND;TZID=Europe/London:20260612T213000
DTSTAMP:20260424T225015
CREATED:20260115T113419Z
LAST-MODIFIED:20260115T113419Z
UID:10318-1781289000-1781299800@hoults.com
SUMMARY:Spot the Difference! .... 12th June 2026
DESCRIPTION:Our most popular tastings of 2025\, so we had to bring them back! And\, yes\, they are always different wines from previous Spot the Difference tastings so you can come to as many as you like! \nI often hear the refrain “Well I wouldn’t know the difference between expensive wine and everyday wine.” I’ve never believed this to be true\, I think we all have an inbuilt ability to see quality but I thought maybe it merited a vinous experiment. So this tasting will be a simple comparison between two wines in the same style but at very different price points. The trick to ensuring that this actually feels somewhat scientific is that it will be a blind tasting. \n5 pairs of wines\, each pair tasted side by side with a little background info on both from me but no indication as to which is the pricey one and which is the midweek value*. Ten terrific wines\, one superb evening. \n*My idea of midweek value wines is pretty decent gear at a sensible price and not a bottle of 19 Crimes\, as such it’s going to be all about flavour.
URL:https://hoults.com/event/spot-the-difference-12th-june-2026/
LOCATION:Hoults Wine Merchants\, 6 Viaduct Street\, Huddersfield\, HD1 5DL\, United Kingdom
CATEGORIES:Wine Tasting
ATTACH;FMTTYPE=image/jpeg:https://hoults.com/wp-content/uploads/2026/01/IMG_5488-scaled.jpeg
END:VEVENT
BEGIN:VEVENT
DTSTART;TZID=Europe/London:20260910T183000
DTEND;TZID=Europe/London:20260910T210000
DTSTAMP:20260424T225015
CREATED:20260417T142242Z
LAST-MODIFIED:20260417T142242Z
UID:10640-1789065000-1789074000@hoults.com
SUMMARY:Montresor tasting with Edoardo Montresor - 10th September 2026
DESCRIPTION:One of Verona’s historic houses\, founded by Giacomo Montresor in 1892\, with a reputation built on high quality\, affordable Valpolicella and Amarone. In recent years\, the range has grown steadily with vineyards being developed in northern Veneto too\, around Conegliano. A fabulous marriage of tradition and innovation. \nWe have been very fortunate to have Edoardo host a wine tasting before and he is amazing\, his knowledge is undisputed and if it’s possible he talks even more than Rob does!
URL:https://hoults.com/event/montresor-tasting-with-edoardo-montresor-10th-september-2026/
LOCATION:Hoults Wine Merchants\, 6 Viaduct Street\, Huddersfield\, HD1 5DL\, United Kingdom
CATEGORIES:Wine Tasting
ATTACH;FMTTYPE=image/jpeg:https://hoults.com/wp-content/uploads/2026/04/4491c3ae-dd4d-42ba-9078-2d86b1d34b58-1.jpeg
END:VEVENT
BEGIN:VEVENT
DTSTART;TZID=Europe/London:20260917T183000
DTEND;TZID=Europe/London:20260917T210000
DTSTAMP:20260424T225015
CREATED:20260417T142316Z
LAST-MODIFIED:20260417T142316Z
UID:10635-1789669800-1789678800@hoults.com
SUMMARY:Spot the Difference! .... 17th September 2026
DESCRIPTION:Our most popular tastings of 2025\, so we had to bring them back! And\, yes\, they are always different wines from previous Spot the Difference tastings so you can come to as many as you like! \nI often hear the refrain “Well I wouldn’t know the difference between expensive wine and everyday wine.” I’ve never believed this to be true\, I think we all have an inbuilt ability to see quality but I thought maybe it merited a vinous experiment. So this tasting will be a simple comparison between two wines in the same style but at very different price points. The trick to ensuring that this actually feels somewhat scientific is that it will be a blind tasting. \n5 pairs of wines\, each pair tasted side by side with a little background info on both from me but no indication as to which is the pricey one and which is the midweek value*. Ten terrific wines\, one superb evening. \n*My idea of midweek value wines is pretty decent gear at a sensible price and not a bottle of 19 Crimes\, as such it’s going to be all about flavour.
URL:https://hoults.com/event/spot-the-difference-12th-june-2026-2/
LOCATION:Hoults Wine Merchants\, 6 Viaduct Street\, Huddersfield\, HD1 5DL\, United Kingdom
CATEGORIES:Wine Tasting
ATTACH;FMTTYPE=image/jpeg:https://hoults.com/wp-content/uploads/2026/04/IMG_5720-scaled.jpeg
END:VEVENT
END:VCALENDAR